BEGIN:VCALENDAR
VERSION:2.0
PRODID:-//Inloophuis De Parasol - ECPv6.15.11//NONSGML v1.0//EN
CALSCALE:GREGORIAN
METHOD:PUBLISH
X-ORIGINAL-URL:https://www.inloophuisdeparasol.nl
X-WR-CALDESC:Evenementen voor Inloophuis De Parasol
REFRESH-INTERVAL;VALUE=DURATION:PT1H
X-Robots-Tag:noindex
X-PUBLISHED-TTL:PT1H
BEGIN:VTIMEZONE
TZID:Europe/Amsterdam
BEGIN:DAYLIGHT
TZOFFSETFROM:+0100
TZOFFSETTO:+0200
TZNAME:CEST
DTSTART:20250330T010000
END:DAYLIGHT
BEGIN:STANDARD
TZOFFSETFROM:+0200
TZOFFSETTO:+0100
TZNAME:CET
DTSTART:20251026T010000
END:STANDARD
BEGIN:DAYLIGHT
TZOFFSETFROM:+0100
TZOFFSETTO:+0200
TZNAME:CEST
DTSTART:20260329T010000
END:DAYLIGHT
BEGIN:STANDARD
TZOFFSETFROM:+0200
TZOFFSETTO:+0100
TZNAME:CET
DTSTART:20261025T010000
END:STANDARD
BEGIN:DAYLIGHT
TZOFFSETFROM:+0100
TZOFFSETTO:+0200
TZNAME:CEST
DTSTART:20270328T010000
END:DAYLIGHT
BEGIN:STANDARD
TZOFFSETFROM:+0200
TZOFFSETTO:+0100
TZNAME:CET
DTSTART:20271031T010000
END:STANDARD
END:VTIMEZONE
BEGIN:VEVENT
DTSTART;TZID=Europe/Amsterdam:20260426T160000
DTEND;TZID=Europe/Amsterdam:20260426T170000
DTSTAMP:20260421T061238
CREATED:20251209T110151Z
LAST-MODIFIED:20260410T142829Z
UID:10846-1777219200-1777222800@www.inloophuisdeparasol.nl
SUMMARY:Eet je mee bij De Parasol?
DESCRIPTION:Konings-Menu: \n\nSoesdijk-soep\nHuis den Bosch-schotel\nPaleis Noordeinde-toetje\n\nKortom: Een koninklijk diner! \nUw koks zijn vandaag Kees en Danny! \n  \nOpgeven t/m vrijdag 24 april  12.00 uur in de Parasol. \nKosten € 4\,00. Graag vooraf en gepast betalen. \nWij zijn ’s zondags vanaf 14.00 uur geopend.
URL:https://www.inloophuisdeparasol.nl/activiteit/eet-je-mee-bij-de-parasol-122/
CATEGORIES:Maaltijd op zondag
END:VEVENT
BEGIN:VEVENT
DTSTART;TZID=Europe/Amsterdam:20260430T133000
DTEND;TZID=Europe/Amsterdam:20260430T150000
DTSTAMP:20260421T061238
CREATED:20260331T120932Z
LAST-MODIFIED:20260331T121252Z
UID:11120-1777555800-1777561200@www.inloophuisdeparasol.nl
SUMMARY:Jeu de Boules
DESCRIPTION:Ook deze donderdagmiddag spelen we Jeu de Boules! \nBij héél slecht weer kiezen we binnen een ander spel om te spelen en hebben we een gezellig samenzijn onder het genot van een kopje koffie of thee. \nWelkom bij het inloophuis De Parasol in de Vleugel en om de Westerkerk;  iedere donderdagmiddag van 13.30 uur tot 15.00 uur .
URL:https://www.inloophuisdeparasol.nl/activiteit/jeu-de-boules-288/
CATEGORIES:Jeu de Boules op donderdag
END:VEVENT
BEGIN:VEVENT
DTSTART;TZID=Europe/Amsterdam:20260510T160000
DTEND;TZID=Europe/Amsterdam:20260510T170000
DTSTAMP:20260421T061238
CREATED:20260331T115848Z
LAST-MODIFIED:20260331T120253Z
UID:11102-1778428800-1778432400@www.inloophuisdeparasol.nl
SUMMARY:Eet je mee bij De Parasol?
DESCRIPTION:  \n  \n            \nHet menu voor vandaag:  \n\nVoorgerecht: Salade Caprese (tomaat\, mozzarella met een balsamico dressing)\nHoofdgerecht: Lasagne met rundergehakt\, knoflook en spinazie\nNagerecht: Chipolata vla\n\nUw koks zijn vandaag Els\, René en Danny! \nOpgeven t/m vrijdag 8 mei\,  12.00 uur in de Parasol. \nKosten € 4\,00. Graag vooraf en gepast betalen. \nWij zijn ’s zondags vanaf 14.00 uur geopend.
URL:https://www.inloophuisdeparasol.nl/activiteit/eet-je-mee-bij-de-parasol-118/
CATEGORIES:Maaltijd op zondag
END:VEVENT
END:VCALENDAR